BEGIN:VCALENDAR
VERSION:2.0
PRODID:-//ChamberMaster//Event Calendar 2.0//EN
METHOD:PUBLISH
X-PUBLISHED-TTL:P3D
REFRESH-INTERVAL:P3D
CALSCALE:GREGORIAN
BEGIN:VEVENT
DTSTART:20111107T060000Z
DTEND:20111107T060000Z
X-MICROSOFT-CDO-ALLDAYEVENT:FALSE
SUMMARY:Creating Sustainable Funding For Your Nonprofit
DESCRIPTION:What would it look like to have an ever-increasing stream of major donors who love your mission? Join us for this free seminar on how to create sustainable funding for your nonprofit.\n\nBy the end of this session\, you will have learned: \n• A tested system to identify and cultivate donors who love your mission—donors who will give for operations\, capital\, and endowment\n• How to engage your community in your organization’s mission and to inspire giving\n• How to get started right away to implement mission-focused\, permission-based fundraising \n\nTo register visit:            http://www.benevon.com/intros/Register-Houston RSVP Required! Space is Limited.\n\nQuestions: Contact Loren Alexanian at 206-428-2150 or loren.alexanian@benevon.com.
X-ALT-DESC;FMTTYPE=text/html:What would it look like to have an ever-increasing stream of major donors who love your mission? Join us for this free seminar on how to create sustainable funding for your nonprofit.\n\nBy the end of this session\, you will have learned: \n• A tested system to identify and cultivate donors who love your mission—donors who will give for operations\, capital\, and endowment\n• How to engage your community in your organization’s mission and to inspire giving\n• How to get started right away to implement mission-focused\, permission-based fundraising \n\nTo register visit:            http://www.benevon.com/intros/Register-Houston RSVP Required! Space is Limited.\n\nQuestions: Contact Loren Alexanian at 206-428-2150 or loren.alexanian@benevon.com.
LOCATION:Houston Food Bank\, 535 Portwall Street\, Community Room C\, Houston\, TX 77029
UID:e.2026.5062748
SEQUENCE:3
DTSTAMP:20260423T042411Z
URL:https://business.eecoc.org/events/details/creating-sustainable-funding-for-your-nonprofit-11-07-2011-5062748
END:VEVENT

END:VCALENDAR
