BEGIN:VCALENDAR
VERSION:2.0
PRODID:-//ChamberMaster//Event Calendar 2.0//EN
METHOD:PUBLISH
X-PUBLISHED-TTL:P3D
REFRESH-INTERVAL:P3D
CALSCALE:GREGORIAN
BEGIN:VEVENT
DTSTART:20120111T060000Z
DTEND:20120111T060000Z
X-MICROSOFT-CDO-ALLDAYEVENT:FALSE
SUMMARY:Business Luncheon
DESCRIPTION:January Luncheon!  Join us for a panel discussion on the Keystone XL Pipeline Project.  We are honored to have Congressman Gene Green and Les Cherwenuk\, Project Director for TransCanada's Keystone XL Pipeline Project on our panel.  If approved in Washington\, this Pipeline will supply crude oil to U.S. Gulf Coast Refineries.  Panelists will discuss the reasons for the delay and the benefits like being poised to put 13\,000 Americans to work and how local businesses along the pipeline route will benefit from job growth and increased business for local goods and service providers.
X-ALT-DESC;FMTTYPE=text/html:January Luncheon!  Join us for a panel discussion on the Keystone XL Pipeline Project.  We are honored to have Congressman Gene Green and Les Cherwenuk\, Project Director for TransCanada's Keystone XL Pipeline Project on our panel.  If approved in Washington\, this Pipeline will supply crude oil to U.S. Gulf Coast Refineries.  Panelists will discuss the reasons for the delay and the benefits like being poised to put 13\,000 Americans to work and how local businesses along the pipeline route will benefit from job growth and increased business for local goods and service providers.
LOCATION:Brady's Landing 8505 Cypress Houston\, Texas 77012
UID:e.2026.88949
SEQUENCE:3
DTSTAMP:20260423T030521Z
URL:https://business.eecoc.org/events/details/business-luncheon-01-11-2012-88949
END:VEVENT

END:VCALENDAR
