BEGIN:VCALENDAR
VERSION:2.0
PRODID:-//ChamberMaster//Event Calendar 2.0//EN
METHOD:PUBLISH
X-PUBLISHED-TTL:P3D
REFRESH-INTERVAL:P3D
CALSCALE:GREGORIAN
BEGIN:VEVENT
DTSTART:20090910T050000Z
DTEND:20090910T050000Z
X-MICROSOFT-CDO-ALLDAYEVENT:FALSE
SUMMARY:Business After Hours
DESCRIPTION:Celebrate festive holiday with friends and business prospects!\nMargaritas\, music and Mexican Fiesta Buffet!
X-ALT-DESC;FMTTYPE=text/html:Celebrate festive holiday with friends and business prospects!\nMargaritas\, music and Mexican Fiesta Buffet!
LOCATION:IBC Bank - Gulfgate Center 3200 Woodridge
UID:e.2026.38091
SEQUENCE:3
DTSTAMP:20260424T193331Z
URL:https://business.eecoc.org/events/details/business-after-hours-09-10-2009-38091
END:VEVENT

END:VCALENDAR
