BEGIN:VCALENDAR
VERSION:2.0
PRODID:-//ChamberMaster//Event Calendar 2.0//EN
METHOD:PUBLISH
X-PUBLISHED-TTL:P3D
REFRESH-INTERVAL:P3D
CALSCALE:GREGORIAN
BEGIN:VEVENT
DTSTART:20120628T050000Z
DTEND:20120628T050000Z
X-MICROSOFT-CDO-ALLDAYEVENT:FALSE
SUMMARY:Business After Hours
DESCRIPTION:Mix and mingle with East End Chamber of Commerce members and friends and leave with valuable business contacts!  \nComplimentary Beer\, wine and appetizers will be provided!\nBring a guest with you and introduce them to the East End Chamber!\nDon't forget your business cards to enter into our raffle for your chance to win fun prizes including four (4) Houston Astros tickets vs. Cincinatti Reds on July 23rd!
X-ALT-DESC;FMTTYPE=text/html:Mix and mingle with East End Chamber of Commerce members and friends and leave with valuable business contacts!  \nComplimentary Beer\, wine and appetizers will be provided!\nBring a guest with you and introduce them to the East End Chamber!\nDon't forget your business cards to enter into our raffle for your chance to win fun prizes including four (4) Houston Astros tickets vs. Cincinatti Reds on July 23rd!
LOCATION:Shafaii Party and Reception Center 1000 Broadway Houston\, Texas 77015
UID:e.2026.94739
SEQUENCE:3
DTSTAMP:20260422T174224Z
URL:https://business.eecoc.org/events/details/business-after-hours-06-28-2012-94739
END:VEVENT

END:VCALENDAR
