BEGIN:VCALENDAR
VERSION:2.0
PRODID:-//ChamberMaster//Event Calendar 2.0//EN
METHOD:PUBLISH
X-PUBLISHED-TTL:P3D
REFRESH-INTERVAL:P3D
CALSCALE:GREGORIAN
BEGIN:VEVENT
DTSTART:20110824T050000Z
DTEND:20110824T050000Z
X-MICROSOFT-CDO-ALLDAYEVENT:FALSE
SUMMARY:Breaking Down Barriers to Create Opportunities
DESCRIPTION:The Power Coach Madeline Alexander\, America’s premier rapid results success coach and leading authority on lasting breakthrough experiences will be the guest speaker.  \nRSVP by August 18th.
X-ALT-DESC;FMTTYPE=text/html: The Power Coach Madeline Alexander\, America’s premier rapid results success coach and leading authority on lasting breakthrough experiences will be the guest speaker.  \nRSVP by August 18th. \n
LOCATION:Minute Maid Park
UID:e.2026.85680
SEQUENCE:3
DTSTAMP:20260423T090300Z
URL:https://business.eecoc.org/events/details/breaking-down-barriers-to-create-opportunities-08-24-2011-85680
END:VEVENT

END:VCALENDAR
