BEGIN:VCALENDAR
VERSION:2.0
PRODID:-//ChamberMaster//Event Calendar 2.0//EN
METHOD:PUBLISH
X-PUBLISHED-TTL:P3D
REFRESH-INTERVAL:P3D
CALSCALE:GREGORIAN
BEGIN:VEVENT
DTSTART:20091016T050000Z
DTEND:20091016T050000Z
X-MICROSOFT-CDO-ALLDAYEVENT:FALSE
SUMMARY:Awards Gala
DESCRIPTION:WHY NOT ROCK!  At the HOUSTON EAST END CHAMBER OF COMMERCE 14th ANNUAL AWARDS GALA!  Dance with the Stars to Music of the Decades by the Spiffingtons and SHOP til you DROP at the Silent Auction!  Sponsorship Opportuntiies available!
X-ALT-DESC;FMTTYPE=text/html:WHY NOT ROCK!  At the HOUSTON EAST END CHAMBER OF COMMERCE 14th ANNUAL AWARDS GALA!  Dance with the Stars to Music of the Decades by the Spiffingtons and SHOP til you DROP at the Silent Auction!  Sponsorship Opportuntiies available!
LOCATION:Hilton Las Americas 1600 Lamar
UID:e.2026.25738
SEQUENCE:3
DTSTAMP:20260424T174459Z
URL:https://business.eecoc.org/events/details/awards-gala-10-16-2009-25738
END:VEVENT

END:VCALENDAR
