BEGIN:VCALENDAR
VERSION:2.0
PRODID:-//ChamberMaster//Event Calendar 2.0//EN
METHOD:PUBLISH
X-PUBLISHED-TTL:P3D
REFRESH-INTERVAL:P3D
CALSCALE:GREGORIAN
BEGIN:VEVENT
DTSTART:20180720T160000Z
DTEND:20180720T180000Z
X-MICROSOFT-CDO-ALLDAYEVENT:FALSE
SUMMARY:Smart Financial Grand Re-Opening
DESCRIPTION:***NON-CHAMBER EVENT***\n\nPlease come and help us celebrate the Grand Re-Opening Celebration of our Wayside Branch. \n\nRibbon Cutting at 12 PM
X-ALT-DESC;FMTTYPE=text/html:<span style="color: rgb(85\, 85\, 85)\; font-family: &quot\;helvetica neue&quot\;\, helvetica\, arial\, sans-serif\;">***NON-CHAMBER EVENT***</span><br />\nPlease come and help us celebrate the Grand Re-Opening Celebration of our Wayside Branch.&nbsp\;<br />\nRibbon Cutting at 12 PM
LOCATION:4411 South Wayside Dr\, Houston\, Tx 77087
UID:e.2026.5071315
SEQUENCE:3
DTSTAMP:20260425T122735Z
URL:http://business.eecoc.org/events/details/smart-financial-grand-re-opening-5071315
END:VEVENT

END:VCALENDAR
