BEGIN:VCALENDAR
VERSION:2.0
PRODID:-//ChamberMaster//Event Calendar 2.0//EN
METHOD:PUBLISH
X-PUBLISHED-TTL:P3D
REFRESH-INTERVAL:P3D
CALSCALE:GREGORIAN
BEGIN:VEVENT
DTSTART:20180718T153000Z
DTEND:20180718T163000Z
X-MICROSOFT-CDO-ALLDAYEVENT:FALSE
SUMMARY:Ribbon Cutting - Taco Bell
DESCRIPTION:Help celebrate the grand opening of Taco Bell!
X-ALT-DESC;FMTTYPE=text/html:Help celebrate the grand opening of Taco Bell!
LOCATION:Taco Bell 9406 Cullen Blvd.\, Suite B\, Houston\, TX 77051
UID:e.2026.5071319
SEQUENCE:3
DTSTAMP:20260425T105851Z
URL:http://business.eecoc.org/events/details/ribbon-cutting-taco-bell-5071319
END:VEVENT

END:VCALENDAR
