BEGIN:VCALENDAR
VERSION:2.0
PRODID:-//ChamberMaster//Event Calendar 2.0//EN
METHOD:PUBLISH
X-PUBLISHED-TTL:P3D
REFRESH-INTERVAL:P3D
CALSCALE:GREGORIAN
BEGIN:VEVENT
DTSTART:20260501T160000Z
DTEND:20260501T163000Z
X-MICROSOFT-CDO-ALLDAYEVENT:FALSE
SUMMARY:Ribbon Cutting - Sine Title
DESCRIPTION:Join us for a Ribbon Cutting Ceremony celebrating New Chamber Member\, Sine Title\, on Friday\, May 1\, 2026\, from 11:00 11:30 AM\, with the official ribbon cutting at 11:15 AM! \n\nThis special event marks the partnership between Almeda Springs Development and District Builders\, with Sine Title as a valued partner. Together\, they are contributing to continued growth and development in our community. \n\nCome out to show your support\, connect with fellow members\, and help us celebrate this exciting milestone. We look forward to seeing you there!
X-ALT-DESC;FMTTYPE=text/html:<div color:="" font-size:="" segoe="" ui="">\n<p align="center" style="text-align:center"><b><span style="font-size:13.0pt\;\nfont-family:&quot\;Arial&quot\;\,sans-serif\;color:#79797B">Join us for a Ribbon Cutting Ceremony celebrating New Chamber Member\, Sine Title\, on Friday\, May 1\, 2026\, from 11:00&ndash\;11:30 AM\, with the official ribbon cutting at 11:15 AM!</span></b><span style="font-size:9.0pt\;\nfont-family:&quot\;Arial&quot\;\,sans-serif\;color:#403F42"><o:p></o:p>&nbsp\;</span></p>\n\n<p align="center" style="text-align:center"><b><span style="font-size:13.0pt\;\nfont-family:&quot\;Arial&quot\;\,sans-serif\;color:#79797B">This special event marks the partnership between Almeda Springs Development and District Builders\, with Sine Title as a valued partner. Together\, they are contributing to continued growth and development in our community.</span></b><span style="font-size:9.0pt\;\nfont-family:&quot\;Arial&quot\;\,sans-serif\;color:#403F42"><o:p></o:p>&nbsp\;</span></p>\n\n<p align="center" style="text-align:center"><b><span style="font-size:13.0pt\;\nfont-family:&quot\;Arial&quot\;\,sans-serif\;color:#79797B">Come out to show your support\, connect with fellow members\, and help us celebrate this exciting milestone. We look forward to seeing you there!</span></b><span style="font-size:9.0pt\;\nfont-family:&quot\;Arial&quot\;\,sans-serif\;color:#403F42"><o:p></o:p></span></p>\n\n<p align="center" style="text-align:center"><span style="font-size:9.0pt\;\nfont-family:&quot\;Arial&quot\;\,sans-serif\;color:#403F42">&nbsp\;</span></p>\n</div>\n
LOCATION:13163 Perennial Springs Dr.\, Houston\, TX 77048
UID:e.2026.5072796
SEQUENCE:3
DTSTAMP:20260422T231938Z
URL:http://business.eecoc.org/events/details/ribbon-cutting-sine-title-5072796
END:VEVENT

END:VCALENDAR
