BEGIN:VCALENDAR
VERSION:2.0
PRODID:-//ChamberMaster//Event Calendar 2.0//EN
METHOD:PUBLISH
X-PUBLISHED-TTL:P3D
REFRESH-INTERVAL:P3D
CALSCALE:GREGORIAN
BEGIN:VEVENT
DTSTART:20221118T210000Z
DTEND:20221119T010000Z
X-MICROSOFT-CDO-ALLDAYEVENT:FALSE
SUMMARY:Ribbon Cutting - Morningstar Storage of Eado
DESCRIPTION:Let's celebrate! Please join us in celebrating the opening of Morningstar Storage of Eado new facility with a Ribbon Cutting ceremony
X-ALT-DESC;FMTTYPE=text/html:<span style="font-size:14px\;"><span style="font-family:arial\;">Let&#39\;s celebrate! Please join us in celebrating the opening of Morningstar Storage of Eado new facility with a Ribbon Cutting ceremony</span></span>
LOCATION:Morningstar Storage of Eado 812 Live Oak Street Houston\, TX 77003
UID:e.2026.5072452
SEQUENCE:3
DTSTAMP:20260421T183656Z
URL:http://business.eecoc.org/events/details/ribbon-cutting-morningstar-storage-of-eado-5072452
END:VEVENT

END:VCALENDAR
