BEGIN:VCALENDAR
VERSION:2.0
PRODID:-//ChamberMaster//Event Calendar 2.0//EN
METHOD:PUBLISH
X-PUBLISHED-TTL:P3D
REFRESH-INTERVAL:P3D
CALSCALE:GREGORIAN
BEGIN:VEVENT
DTSTART:20221118T153000Z
DTEND:20221118T163000Z
X-MICROSOFT-CDO-ALLDAYEVENT:FALSE
SUMMARY:Ribbon Cutting - Minuteman Press
DESCRIPTION:Let's celebrate! Please join us for a Ribbon Cutting Ceremony to celebrate the Grand Opening of our newest Chamber Member\, Minuteman Press!
X-ALT-DESC;FMTTYPE=text/html:<span style="font-size:14px\;"><span style="font-family:arial\;">Let&#39\;s celebrate! Please join us for a&nbsp\;</span></span><span style="font-family: arial\; font-size: 14px\;">Ribbon Cutting Ceremony to celebrate the Grand Opening of&nbsp\;</span><span style="font-size:14px\;"><span style="font-family:arial\;">our newest Chamber Member\, Minuteman Press!</span></span>
LOCATION:Minuteman Press 4006 Broadway Street Houston\, TX 77087
UID:e.2026.5072453
SEQUENCE:3
DTSTAMP:20260421T183438Z
URL:http://business.eecoc.org/events/details/ribbon-cutting-minuteman-press-5072453
END:VEVENT

END:VCALENDAR
