BEGIN:VCALENDAR
VERSION:2.0
PRODID:-//ChamberMaster//Event Calendar 2.0//EN
METHOD:PUBLISH
X-PUBLISHED-TTL:P3D
REFRESH-INTERVAL:P3D
CALSCALE:GREGORIAN
BEGIN:VEVENT
DTSTART;VALUE=DATE:20240701
DTEND;VALUE=DATE:20240702
TRANSP:TRANSPARENT
X-MICROSOFT-CDO-ALLDAYEVENT:TRUE
SUMMARY:Pinstripes - Event Holiday Promotion
DESCRIPTION:Elevate Your Holiday Party at Pinstripes by Booking your Event by\n\nOctober 31st and Get up to 3 Perks!\n\n\n\nSpend $2\,500- $9\,999 and get 1 perks\n\n\n\nSpend $10\,000 - $15\,999 and get 2 perks\n\n\n\nSpend $16\,000+ and get 3 perks\n\n\n\nHere are the perks:\n\n\n\n- Hour of Gaming\n\n\n\n- $500 Credit for Future Event\n\n\n\n- Extra Appetizer/Dessert\n\n\n\n- $15 Guest Certificate\n\n\n\n- Champagne Toast\n\n\n\nThe event must actualize November 1st through January 31st 2024. Not\n\nValid for Prior Bookings.\n\n\n\nLearn more\, visit: https://pinstripes.com/private-events/
X-ALT-DESC;FMTTYPE=text/html:Elevate Your Holiday Party at Pinstripes by Booking your Event by<br />\nOctober 31st and Get up to 3 Perks!<br />\n<br />\nSpend $2\,500- $9\,999 and get 1 perks<br />\n<br />\nSpend $10\,000 - $15\,999 and get 2 perks<br />\n<br />\nSpend $16\,000+ and get 3 perks<br />\n<br />\nHere are the perks:<br />\n<br />\n- Hour of Gaming<br />\n<br />\n- $500 Credit for Future Event<br />\n<br />\n- Extra Appetizer/Dessert<br />\n<br />\n- $15 Guest Certificate<br />\n<br />\n- Champagne Toast<br />\n<br />\nThe event must actualize November 1st through January 31st 2024. Not<br />\nValid for Prior Bookings.<br />\n<br />\nLearn more\, visit: https://pinstripes.com/private-events/
LOCATION:
UID:e.2026.5072601
SEQUENCE:3
DTSTAMP:20260420T045004Z
URL:http://business.eecoc.org/events/details/pinstripes-event-holiday-promotion-5072601
END:VEVENT

END:VCALENDAR
