BEGIN:VCALENDAR
VERSION:2.0
PRODID:-//ChamberMaster//Event Calendar 2.0//EN
METHOD:PUBLISH
X-PUBLISHED-TTL:P3D
REFRESH-INTERVAL:P3D
CALSCALE:GREGORIAN
BEGIN:VEVENT
DTSTART:20191023T160000Z
DTEND:20191023T180000Z
X-MICROSOFT-CDO-ALLDAYEVENT:FALSE
SUMMARY:Partners in Primary Care Open House
DESCRIPTION:Partners in Primary Care is a senior focused primary care doctors office. Please join us and learn more about our facility and what we have to offer to the community. We will have hors d'oeuvres\, refreshments\, and dessert. As well as the radio station live\, Medicare insurance agents\, and raffle prizes to give out. Please feel free to bring your family\, friends\, and neighbors.
X-ALT-DESC;FMTTYPE=text/html:Partners in Primary Care is a senior focused primary care doctors&nbsp\;office. Please join us and learn more about our facility and what we have to offer to the community. We will have hors d&#39\;oeuvres\, refreshments\, and dessert. As well as the radio station live\, Medicare insurance agents\, and raffle prizes to give out. Please feel free to bring your family\, friends\, and neighbors.
LOCATION:545 Gulfgate Center Mall Houston\, TX 77087 Located behind Chuck E. Cheese
UID:e.2026.5071992
SEQUENCE:3
DTSTAMP:20260424T092632Z
URL:http://business.eecoc.org/events/details/partners-in-primary-care-open-house-5071992
END:VEVENT

END:VCALENDAR
