BEGIN:VCALENDAR
VERSION:2.0
PRODID:-//ChamberMaster//Event Calendar 2.0//EN
METHOD:PUBLISH
X-PUBLISHED-TTL:P3D
REFRESH-INTERVAL:P3D
CALSCALE:GREGORIAN
BEGIN:VEVENT
DTSTART:20220119T190000Z
DTEND:20220119T210000Z
X-MICROSOFT-CDO-ALLDAYEVENT:FALSE
SUMMARY:Open Door Mission Houston - Ribbon Cutting
DESCRIPTION:Let's celebrate! Please join us at a Ribbon Cutting Ceremony to celebrate Harris Health Systems and Open Door Mission Respite Recuperative Care Center's  Grand Opening! \n\n\n\nRibbon Cutting Ceremony at 2:00PM
X-ALT-DESC;FMTTYPE=text/html:<div class="kvgmc6g5 cxmmr5t8 oygrvhab hcukyx3x c1et5uql" color:="" font-size:="" segoe="" style="overflow-wrap: break-word\; margin: 0px\; font-family: " ui="">Let&#39\;s celebrate! Please join us at a Ribbon Cutting Ceremony to celebrate&nbsp\;Harris Health Systems and Open Door Mission Respite Recuperative Care Center&#39\;s&nbsp\; Grand Opening!&nbsp\;<br />\n<br />\n<strong>Ribbon Cutting Ceremony&nbsp\;at 2:00PM</strong></div>\n\n<div class="o9v6fnle cxmmr5t8 oygrvhab hcukyx3x c1et5uql" color:="" font-size:="" segoe="" style="overflow-wrap: break-word\; margin: 0.5em 0px 0px\; font-family: " ui="">&nbsp\;</div>\n
LOCATION:Open Door Mission Houston 5803 Harrisburg Blvd Houston\, TX 77011
UID:e.2026.5072407
SEQUENCE:3
DTSTAMP:20260422T113743Z
URL:http://business.eecoc.org/events/details/open-door-mission-houston-ribbon-cutting-5072407
END:VEVENT

END:VCALENDAR
