BEGIN:VCALENDAR
VERSION:2.0
PRODID:-//ChamberMaster//Event Calendar 2.0//EN
METHOD:PUBLISH
X-PUBLISHED-TTL:P3D
REFRESH-INTERVAL:P3D
CALSCALE:GREGORIAN
BEGIN:VEVENT
DTSTART:20190924T233000Z
DTEND:20190925T010000Z
X-MICROSOFT-CDO-ALLDAYEVENT:FALSE
SUMMARY:Houston Latinos: Mayoral Candidate Forum
DESCRIPTION:On September 24\, 2019\, AAMA will host a forum for candidates who are running to be the next Mayor of Houston. The event will present issues that are important to the Latino community.
X-ALT-DESC;FMTTYPE=text/html:On September 24\, 2019\, AAMA will host a forum for candidates who are running to be the next Mayor of Houston. The event will present issues that are important to the Latino community.
LOCATION:AAMA Garza Building Gymnasium\, 6001 Gulf Freeway\, Houston\, TX 77023
UID:e.2026.5071637
SEQUENCE:3
DTSTAMP:20260424T105447Z
URL:http://business.eecoc.org/events/details/houston-latinos-mayoral-candidate-forum-5071637
END:VEVENT

END:VCALENDAR
