BEGIN:VCALENDAR
VERSION:2.0
PRODID:-//ChamberMaster//Event Calendar 2.0//EN
METHOD:PUBLISH
X-PUBLISHED-TTL:P3D
REFRESH-INTERVAL:P3D
CALSCALE:GREGORIAN
BEGIN:VEVENT
DTSTART:20170407T140000Z
DTEND:20170407T150000Z
X-MICROSOFT-CDO-ALLDAYEVENT:FALSE
SUMMARY:Ground Breaking for The White Heron Building
DESCRIPTION:Join us for the Ground Breaking of The White Heron Building. This is a 2 story building\, 10\,000 square feet located in the East End area. We are excited to introduce future retail and office space to this community. The White Heron Building is a prime location for anyone looking for office space in the heart of the East End.
X-ALT-DESC;FMTTYPE=text/html:Join us for the Ground Breaking of The White Heron Building. This is a 2 story building\, 10\,000 square feet located in the East End area. We are excited to introduce future retail and office space to this community. The White Heron Building is a prime location for anyone looking for office space in the heart of the East End. &nbsp\;&nbsp\; &nbsp\; &nbsp\;&nbsp\;&nbsp\;&nbsp\;
LOCATION:The White Heron Building 241 North Milby Street Houston\,TX 77003
UID:e.2026.5068982
SEQUENCE:3
DTSTAMP:20260420T082518Z
URL:http://business.eecoc.org/events/details/ground-breaking-for-the-white-heron-building-5068982
END:VEVENT

END:VCALENDAR
