BEGIN:VCALENDAR
VERSION:2.0
PRODID:-//ChamberMaster//Event Calendar 2.0//EN
METHOD:PUBLISH
X-PUBLISHED-TTL:P3D
REFRESH-INTERVAL:P3D
CALSCALE:GREGORIAN
BEGIN:VEVENT
DTSTART:20220224T160000Z
DTEND:20220224T170000Z
X-MICROSOFT-CDO-ALLDAYEVENT:FALSE
SUMMARY:Chicago Title Southeast - Ribbon Cutting
DESCRIPTION:Let's celebrate! Please join us in welcoming Chicago Title Southeast to the Houston East End Chamber of Commerce with a Ribbon Cutting ceremony.\n\n\n\nRibbon Cutting Ceremony at 10:00AM
X-ALT-DESC;FMTTYPE=text/html:<div class="kvgmc6g5 cxmmr5t8 oygrvhab hcukyx3x c1et5uql" color:="" font-size:="" segoe="" style="overflow-wrap: break-word\; margin: 0px\; font-family: " ui="">Let&#39\;s celebrate! Please join us in welcoming Chicago Title Southeast&nbsp\;to the Houston East End Chamber of Commerce with a Ribbon Cutting ceremony.<br />\n<br />\n<strong>Ribbon Cutting Ceremony&nbsp\;at 10:00AM</strong></div>\n\n<div class="o9v6fnle cxmmr5t8 oygrvhab hcukyx3x c1et5uql" color:="" font-size:="" segoe="" style="overflow-wrap: break-word\; margin: 0.5em 0px 0px\; font-family: " ui="">&nbsp\;</div>\n
LOCATION:Chicago Title Southeast 1208 Hutchins St. Houston\, Texas 77003
UID:e.2026.5072418
SEQUENCE:3
DTSTAMP:20260422T094648Z
URL:http://business.eecoc.org/events/details/chicago-title-southeast-ribbon-cutting-5072418
END:VEVENT

END:VCALENDAR
