BEGIN:VCALENDAR
VERSION:2.0
PRODID:-//ChamberMaster//Event Calendar 2.0//EN
METHOD:PUBLISH
X-PUBLISHED-TTL:P3D
REFRESH-INTERVAL:P3D
CALSCALE:GREGORIAN
BEGIN:VEVENT
DTSTART:20171116T143000Z
DTEND:20171116T160000Z
X-MICROSOFT-CDO-ALLDAYEVENT:FALSE
SUMMARY:Breakfast Exchange - CHRISTUS Foundation for Healthcare
DESCRIPTION:Join us at our FREE Breakfast Exchange\, open to member & non-members as a quick and easy networking opportunity to meet key business prospects.  \n\n\n\n- Give a 60-second "commercial"\n\n- Build relationships to build business\n\n- Receive contact information on all attendees for immediate follow up \n\n- Complimentary breakfast provided\n\n- Open to Members & Non-members\n\n- Don't forget to bring a friend!\n\n** Christus Foundation for Healthcare will be proving FREE flu shots**
X-ALT-DESC;FMTTYPE=text/html:Join us at our FREE Breakfast Exchange\, open to member &amp\; non-members as a quick and easy networking opportunity to meet key business prospects. &nbsp\;<br />\n<br />\n- Give a 60-second &quot\;commercial&quot\;<br />\n- Build relationships to build business<br />\n- Receive contact information on all attendees for immediate follow up&nbsp\;<br />\n- Complimentary breakfast provided<br />\n- Open to Members &amp\; Non-members<br />\n- Don&#39\;t forget to bring a friend!<br />\n** Christus Foundation for Healthcare will be proving FREE flu shots**
LOCATION:CHRISTUS Foundation for Healthcare 2615 Fannin\, 3rd Floor Houston\,TX 77002 Parking is free behind the building. Participants can enter the building through the "staff" entrance at the back of the building. Overflow parking (still free) can be found in the lot across San Jacinto on the corner of San Jacinto and McGowen. The arms to the gates will be left up.
UID:e.2026.5068992
SEQUENCE:3
DTSTAMP:20260426T033148Z
URL:http://business.eecoc.org/events/details/breakfast-exchange-christus-foundation-for-healthcare-5068992
END:VEVENT

END:VCALENDAR
