BEGIN:VCALENDAR
VERSION:2.0
PRODID:-//ChamberMaster//Event Calendar 2.0//EN
METHOD:PUBLISH
X-PUBLISHED-TTL:P3D
REFRESH-INTERVAL:P3D
CALSCALE:GREGORIAN
BEGIN:VEVENT
DTSTART:20210417T150000Z
DTEND:20210417T180000Z
X-MICROSOFT-CDO-ALLDAYEVENT:FALSE
SUMMARY:AAMA's Kickball Tournament
DESCRIPTION:Tournament Details: Player Registration $25 Brackets: Family (10+ years) or Adults Only (18+) Single game elimination (5) Innings or 45 mins. 6-8 Players per team Must have one female per team
X-ALT-DESC;FMTTYPE=text/html:Tournament Details: Player Registration $25 Brackets: Family (10+ years) or Adults Only (18+) Single game elimination (5) Innings or 45 mins. 6-8 Players per team Must have one female per team
LOCATION:AAMA Sanchez North Campus 215 Rittenhouse Rd. Houston\, TX 77076
UID:e.2026.5072273
SEQUENCE:3
DTSTAMP:20260423T024329Z
URL:http://business.eecoc.org/events/details/aama-s-kickball-tournament-5072273
END:VEVENT

END:VCALENDAR
